BEGIN:VCALENDAR
VERSION:2.0
BEGIN:VEVENT
CLASS:PUBLIC
CATEGORIES:MEETING
DTSTART;TZID=America/New_York:20260711T173000
DTEND;TZID=America/New_York:20260711T173000
SUMMARY:LESSON ZERO at Clare and Don's Beach Shack
DESCRIPTION:Price: free\nAge Limit: All Ages\n\nDetails: Nice venue, good food and drinks, friendly folks, and way cool music from Oasis recording artist LESSON ZERO
LOCATION:Clare and Don's Beach Shack - 130 North Washington Street, Falls Church, VA, 22046, US
END:VEVENT

END:VCALENDAR
