BEGIN:VCALENDAR
VERSION:2.0
BEGIN:VEVENT
CLASS:PUBLIC
CATEGORIES:MEETING
DTSTART;TZID=America/New_York:20260627T120000
DTEND;TZID=America/New_York:20260627T120000
SUMMARY:shakey lyman at The Twisted Tail
DESCRIPTION:Age Limit: 21+ or w/ adult
LOCATION:The Twisted Tail - 509 S 2nd St, Philadelphia, PA, 19147, US
END:VEVENT

END:VCALENDAR
