BEGIN:VCALENDAR
VERSION:2.0
BEGIN:VEVENT
CLASS:PUBLIC
CATEGORIES:MEETING
DTSTART;TZID=America/New_York:20260620T183000
DTEND;TZID=America/New_York:20260620T183000
SUMMARY:Second Helping at Saloon Studios Live
DESCRIPTION:Price: $35-$55\nClick here to buy tickets: https://saloonstudioslive.com/product/second-helping-the-american-lynyrd-skynyrd-tribute-show-with-cj-ballard-band-june-20th/\nAge Limit: All Ages
LOCATION:Saloon Studios Live - 313 Old West Road, West Jefferson, NC, 28694, US
END:VEVENT

END:VCALENDAR
