BEGIN:VCALENDAR
VERSION:2.0
BEGIN:VEVENT
CLASS:PUBLIC
CATEGORIES:MEETING
DTSTART;TZID=America/New_York:20260606T183000
DTEND;TZID=America/New_York:20260606T183000
SUMMARY:Heart Breaker at Saloon Studios Live
DESCRIPTION:Price: $35-$55\nClick here to buy tickets: https://saloonstudioslive.com/product/heart-breaker-a-tribute-to-heart-june-6th/\nAge Limit: All Ages
LOCATION:Saloon Studios Live - 313 Old West Road, West Jefferson, NC, 28694, US
END:VEVENT

END:VCALENDAR
