BEGIN:VCALENDAR
VERSION:2.0
BEGIN:VEVENT
CLASS:PUBLIC
CATEGORIES:MEETING
DTSTART;TZID=America/New_York:20260530T183000
DTEND;TZID=America/New_York:20260530T183000
SUMMARY:Shoot To Thrill at Saloon Studios Live
DESCRIPTION:Price: $25-$40\nClick here to buy tickets: https://saloonstudioslive.com/product/shoot-to-thrill-all-girl-ac-dc-tribute-may-30th/\nAge Limit: 21+ or w/ adult
LOCATION:Saloon Studios Live - 313 Old West Road, West Jefferson, NC, 28694, US
END:VEVENT

END:VCALENDAR
