BEGIN:VCALENDAR
VERSION:2.0
BEGIN:VEVENT
CLASS:PUBLIC
CATEGORIES:MEETING
DTSTART;TZID=America/New_York:20260626T210000
DTEND;TZID=America/New_York:20260626T210000
SUMMARY:Diamond Dixie at Kicker's Saloon
DESCRIPTION:Age Limit: All Ages
LOCATION:Kicker's Saloon - 14333 Beach Blvd in Pablo Station, Jacksonville, FL, 32250, US
END:VEVENT

END:VCALENDAR
