BEGIN:VCALENDAR
VERSION:2.0
BEGIN:VEVENT
CLASS:PUBLIC
CATEGORIES:MEETING
DTSTART;TZID=America/Chicago:20260421T210000
DTEND;TZID=America/Chicago:20260421T210000
SUMMARY:Diamond Dixie at Odie's
DESCRIPTION:Age Limit: All Ages\n\nDetails: We go on at 9:00pm
LOCATION:Odie's - 1919 Division Street, Nashville, TN, 37203, US
END:VEVENT

END:VCALENDAR
