BEGIN:VCALENDAR
VERSION:2.0
BEGIN:VEVENT
CLASS:PUBLIC
CATEGORIES:MEETING
DTSTART;TZID=America/Chicago:20260509T200000
DTEND;TZID=America/Chicago:20260509T200000
SUMMARY:Texas Flood at The Gar Hole
DESCRIPTION:Age Limit: All Ages
LOCATION:The Gar Hole - 106 Houston Street, Anna, TX, 75409, US
END:VEVENT

END:VCALENDAR
