BEGIN:VCALENDAR
VERSION:2.0
BEGIN:VEVENT
CLASS:PUBLIC
CATEGORIES:MEETING
DTSTART;TZID=America/Chicago:20260422T200000
DTEND;TZID=America/Chicago:20260422T200000
SUMMARY:Texas Flood at Tolberts Restaurant
DESCRIPTION:Age Limit: All Ages
LOCATION:Tolberts Restaurant - 423 South Main Street, Grapevine, TX, 76051, US
END:VEVENT

END:VCALENDAR
