BEGIN:VCALENDAR
VERSION:2.0
BEGIN:VEVENT
CLASS:PUBLIC
CATEGORIES:MEETING
DTSTART;TZID=America/New_York:20260412T100000
DTEND;TZID=America/New_York:20260412T100000
SUMMARY:Michael Gonzalez – LoneGonzo at Geneva On The Lake
DESCRIPTION:Age Limit: All Ages\n\nDetails: Join us for a special Jazz Brunch on Sunday, April 12 from 10-1pm at the historic Geneva on the Lake Hotel &amp; Resort. Over looking beautiful Seneca Lake in Geneva, NY. This performance is part of the 4th annual Geneva Jazz Festival.\n\nIsland Time String Band is an acoustic group exploring the rich music and rhythms of Hawaii, Brazil, and the Caribbean. Featuring Michael George Gonzalez (ukulele + vocals). With Bobby Henrie (guitar), Mitch Klicki (upright Bass), and Steve Imburgia (percussion). #IslandTimeStrings\n\nWe&#39;re thrilled to announce the fourth installment of the Geneva Jazz Festival and Scott Lafaro celebration. Our mission is to be a steward of jazz culture by showcasing talented performers, and keeping the spirit of Scott Lafaro alive. Inviting our guests to experience the most exquisite spaces in the Finger Lakes–To savor fine food, drinks, exceptional music, and great atmosphere. Produced by FLX Music247 and FLIMA.
LOCATION:Geneva On The Lake - 1001 Lochland Road, Geneva, NY, 14456, US
END:VEVENT

END:VCALENDAR
