BEGIN:VCALENDAR
VERSION:2.0
BEGIN:VEVENT
CLASS:PUBLIC
CATEGORIES:MEETING
DTSTART;TZID=America/New_York:20260328T213000
DTEND;TZID=America/New_York:20260328T213000
SUMMARY:PR1 Promotions / DJ Tiburon at Moondoggy's Saloon & Zuzu's Cocktail Lounge
DESCRIPTION:Age Limit: 21+\n\nDetails: Catch the vibe! as DJ Tiburon aka Paco returns but thi time at Lah De Dah! Another PR1 Promotions Experience. 
LOCATION:Moondoggy's Saloon & Zuzu's Cocktail Lounge - 2234-2236 Gulf Gate Drive, Sarasota, FL, 34231, US
END:VEVENT

END:VCALENDAR
