BEGIN:VCALENDAR
VERSION:2.0
BEGIN:VEVENT
CLASS:PUBLIC
CATEGORIES:MEETING
DTSTART;TZID=America/Los_Angeles:20260425T190000
DTEND;TZID=America/Los_Angeles:20260425T190000
SUMMARY:DAEMOS at Brick by Brick
DESCRIPTION:Price: $16.52\nClick here to buy tickets: https://www.ticketweb.com/event/wacken-metal-battle-brick-by-brick-tickets/14805153?REFID=clientsitewp\nAge Limit: 21+\n\nDetails: All shows at Brick by Brick are 21+, no exceptions. Online sales end 30-minutes before doors unless otherwise noted. All ticket sales are final—no refunds or credits. Tickets cannot be replaced if lost, stolen, or damaged.\n\nNeed help with your purchase? Please contact Ticketweb&#39;s customer support team at info@ticketweb.com.
LOCATION:Brick by Brick - 1130 Buenos Avenue, San Diego, CA, 92110, US
END:VEVENT

END:VCALENDAR
