BEGIN:VCALENDAR
VERSION:2.0
BEGIN:VEVENT
CLASS:PUBLIC
CATEGORIES:MEETING
DTSTART;TZID=America/Los_Angeles:20260415T170000
DTEND;TZID=America/Los_Angeles:20260415T170000
SUMMARY:Victorious Marcus at HNY26 😱GREAT NEWS 4 NEW DEALS & CLIMBING!!!!!!!
DESCRIPTION:Price: Varies \nClick here to buy tickets: https://www.bbsradio.com/TheVictoriousMarcusShow\nAge Limit: All Ages\n\nDetails: Hey Thanks Hope all is well, Let&#39;s Work :) OMG😱🎆🎇GOT NEW BIG RECORD LABEL - Ghost Rocket/ Sky Rocket As High LEVEL 2. They Pay Music Promo &amp; My Music Distribution ETC 🎇https://m.youtube.com/watch?v=sYckUyWtOyk🎆\n I PLACED 2nd IN LATEST GRAMMY SHOWCASE RESULTING IN GRAMMY NOM IN LOS ANGELES, CA WILL BE A MOVIE ON TUBI &amp; I&#39;LL BE PERFORMING/OPENING FOR MULTIPLE PLATINUM ARTIST BENZINO I&#39;LL BE ON COVER OF MAGAZINE WITH RADIO #1 RAPPER BENZINO MARCH 29!!! :))\n:) Let&#39;s Work 😱 THANKFUL 23 BILLION VIEWS/ 2934 AWARDS INCLUDING FROM GYMNASTICS &amp; TRACK MEETS AWARDS Started 12 YRS OLD /NEW RECORD LABEL DEAL with B&amp;R Music Group with THE GRAMMYS SHOWCASE on Tubi January 31st in Los Angeles, CA!!!! Tour in Production!!!! :)\nPREVIOUS 26 MUSIC/BUSINESS AWARDS/SHOW Las Vegas Dec4&amp;5 for My GRAMMY EMMY EQUIVALENT WORLD MUSIC AWAR-Fluxx Artist Of the Year - Media and Entertainment 2025 My Music, TV &amp; Radio Show &#39;The Victorious Marcus Show&#39; with BBS TV Radio &amp; Universal Music Group Distribution!!!!\n\nBESIDES 21 COMPETITIONS PER YEAR WITH 8 AWARDS PER EVENT ELITE GYMNASTICS COMPETITIONS INCLUDING MOST OUTSTANDING BY THE OLYMPIC GYMNASTICS COACH BELA KAROLI/CAMP @12 &amp; SCHOOL GYMNASTICS COMPETITIONS AT SAME JR HIGH AS BEYONCE KNOWLES AT WELCH MIDDLE SCHOOL. I HAD STRAIGHT A&#39;S. With 6 EVENTS &amp; 8 AWARDS FOR 21 MEETS PER YEAR ELITE GYMNASTICS MEETS &amp; SCHOOL GYMNASTICS MEETS WITH 6 EVENTS &amp; 8 AWARDS FOR &amp; ALL AROUND AWARD&amp; Individual All Around Gymnastics Awards EACH COMPETITION FOR 15 YEARS TOTAL of 2520 AWARDS!!! ALSO 21 TRACK MEETS A YR FOR JR OLYMPIC TRACK &amp; SCHOOL TRACK FOR 6 YRS WITH 3 AWARDS PER INDIVIDUAL EVENTS AWARDS &amp;TEAM MEETS FOR 4 ×100 With 3 AWARDS PER 3 EVENTS LONG JUMP &amp; 80 METER HURDLES TOTAL OF 63 AWARDS A YR FOR 6 YRS 378 TRACK AWARDS.\n FOR ALL AWARDS 2934 AWARDS &amp; CLIMBING. Thanks Especially God!! Much Love God Bless/Work/Sponsors/ Investors ETC :)🎆\nnexttorisetour.com/\n.bbsradio.com/TheVictoriousMarcusShow reverbnation.com/victoriousmarcus\nmave.ly/the-victorious-marcus-shop
LOCATION:HNY26 😱GREAT NEWS 4 NEW DEALS & CLIMBING!!!!!!! - 14752 Crenshaw Blvd, Apt417, Worldwide, CA, 90249, US
END:VEVENT

END:VCALENDAR
