BEGIN:VCALENDAR
VERSION:2.0
BEGIN:VEVENT
CLASS:PUBLIC
CATEGORIES:MEETING
DTSTART;TZID=America/New_York:20260731T190000
DTEND;TZID=America/New_York:20260731T190000
SUMMARY:LESSON ZERO at The Old Dominion Boat Club
DESCRIPTION:Age Limit: All Ages
LOCATION:The Old Dominion Boat Club - 1 King Street, Alexandria, VA, 22314, US
END:VEVENT

END:VCALENDAR
