BEGIN:VCALENDAR
VERSION:2.0
BEGIN:VEVENT
CLASS:PUBLIC
CATEGORIES:MEETING
DTSTART;TZID=America/New_York:20260501T200000
DTEND;TZID=America/New_York:20260501T200000
SUMMARY:LESSON ZERO at Evening Star Cafe
DESCRIPTION:Price: free\nAge Limit: All Ages\n\nDetails: The Evening Star Cafe, 2000 Mt. Vernon Ave., Alexandria presents the music of Oasis recording artist LESSON ZERO Friday, May 1 from 8:30 to 10:30. Admission is free and street parking is available. Good food and drinks, friendly folks, and way cool music.
LOCATION:Evening Star Cafe - 2000 Mt Vernon Ave, Alexandria, VA, 22301-1310, US
END:VEVENT

END:VCALENDAR
