BEGIN:VCALENDAR
VERSION:2.0
BEGIN:VEVENT
CLASS:PUBLIC
CATEGORIES:MEETING
DTSTART;TZID=Australia/Melbourne:20260418T190000
DTEND;TZID=Australia/Melbourne:20260418T190000
SUMMARY:Zeus The Prophet at Radio Bar & Cafe
DESCRIPTION:Price: $25 From the Artist $30 at the door\nClick here to buy tickets: https://www.instagram.com/zeustheprophet\nAge Limit: All Ages\n\nDetails: April 18 — Radio Bar, Melbourne\n\nI’ll be performing live alongside NJE and a strong lineup of artists.\n\nCurrently ranked #1 on ReverbNation and I’m bringing that energy to the stage.\n\nThis is more than a performance.\nThis is presence. This is message.\n\nTickets available now — DM me directly.\n\nLet’s build something real.
LOCATION:Radio Bar & Cafe - 357 Brunswick St, Melbourne, VIC, 3065, AU
END:VEVENT

END:VCALENDAR
