BEGIN:VCALENDAR
VERSION:2.0
BEGIN:VEVENT
CLASS:PUBLIC
CATEGORIES:MEETING
DTSTART;TZID=America/New_York:20260621T180000
DTEND;TZID=America/New_York:20260621T180000
SUMMARY:Eleni Skiba at iTHINK Financial Amphitheatre
DESCRIPTION:Click here to buy tickets: https://www.ticketmaster.com/hilary-duff-the-lucky-me-tour-west-palm-beach-florida-06-21-2026/event/0D006452D9051D41\nAge Limit: All Ages\n\nDetails: Samantha Russell Duo VIP Hillary Duff
LOCATION:iTHINK Financial Amphitheatre - 601 Sansburys Way, West Palm Beach, FL, 33411, US
END:VEVENT

END:VCALENDAR
