BEGIN:VCALENDAR
VERSION:2.0
BEGIN:VEVENT
CLASS:PUBLIC
CATEGORIES:MEETING
DTSTART;TZID=America/New_York:20260611T180000
DTEND;TZID=America/New_York:20260611T180000
SUMMARY:Eleni Skiba at iTHINK Financial Amphitheatre
DESCRIPTION:Click here to buy tickets: https://www.ticketmaster.com/evanescence-2026-world-tour-with-spiritbox-west-palm-beach-florida-06-11-2026/event/0D00637A36B7D94F\nAge Limit: All Ages\n\nDetails: Samantha Russell Duo
LOCATION:iTHINK Financial Amphitheatre - 601 Sansburys Way, West Palm Beach, FL, 33411, US
END:VEVENT

END:VCALENDAR
