BEGIN:VCALENDAR
VERSION:2.0
BEGIN:VEVENT
CLASS:PUBLIC
CATEGORIES:MEETING
DTSTART;TZID=America/New_York:20260605T180000
DTEND;TZID=America/New_York:20260605T180000
SUMMARY:Eleni Skiba at The Mansion at Tuckahoe (Indian River State Park)
DESCRIPTION:Age Limit: All Ages\n\nDetails: LiveFeed (Time TBA)
LOCATION:The Mansion at Tuckahoe (Indian River State Park) - 1707 Northeast Indian River Drive, Jensen Beach, FL, 34957, US
END:VEVENT

END:VCALENDAR
