BEGIN:VCALENDAR
VERSION:2.0
BEGIN:VEVENT
CLASS:PUBLIC
CATEGORIES:MEETING
DTSTART;TZID=America/New_York:20260510T160000
DTEND;TZID=America/New_York:20260510T160000
SUMMARY:Eleni Skiba at Galuppi's Restaurant
DESCRIPTION:Age Limit: All Ages\n\nDetails: MizBehavin&#39;
LOCATION:Galuppi's Restaurant - 1103 N Federal Hwy, Pompano Beach, FL, 33060, US
END:VEVENT

END:VCALENDAR
