BEGIN:VCALENDAR
VERSION:2.0
BEGIN:VEVENT
CLASS:PUBLIC
CATEGORIES:MEETING
DTSTART;TZID=America/New_York:20260508T200000
DTEND;TZID=America/New_York:20260508T200000
SUMMARY:The Mark Stinger Band at The Twisted Tail
DESCRIPTION:Price: Free Admission \nAge Limit: All Ages
LOCATION:The Twisted Tail - 509 S 2nd St, Philadelphia, PA, 19147, US
END:VEVENT

END:VCALENDAR
