BEGIN:VCALENDAR
VERSION:2.0
BEGIN:VEVENT
CLASS:PUBLIC
CATEGORIES:MEETING
DTSTART;TZID=America/Los_Angeles:20260422T180000
DTEND;TZID=America/Los_Angeles:20260422T180000
SUMMARY:Jawn Star at Bayside Restaurant
DESCRIPTION:Age Limit: All Ages\n\nDetails: 6-9pm Most Every Wednesday*, Jawn Star presents &quot;Elton McCartney&quot; - The songs of Elton John and The Beatles on piano and voice. And more... Join us for dining, drinks and LIVE music on the coast.
LOCATION:Bayside Restaurant - 900 Bayside Drive, Newport Beach, CA, 92660, US
END:VEVENT

END:VCALENDAR
