BEGIN:VCALENDAR
VERSION:2.0
BEGIN:VEVENT
CLASS:PUBLIC
CATEGORIES:MEETING
DTSTART;TZID=America/Chicago:20260529T183000
DTEND;TZID=America/Chicago:20260529T183000
SUMMARY:Brian Grace Music at Sexton Mill
DESCRIPTION:Age Limit: All Ages
LOCATION:Sexton Mill - 100 Grace Street, Glen Rose, TX, 76043, US
END:VEVENT

END:VCALENDAR
