BEGIN:VCALENDAR
VERSION:2.0
BEGIN:VEVENT
CLASS:PUBLIC
CATEGORIES:MEETING
DTSTART;TZID=America/Chicago:20260523T190000
DTEND;TZID=America/Chicago:20260523T190000
SUMMARY:Brian Grace Music at Hard Eight BBQ
DESCRIPTION:Age Limit: All Ages
LOCATION:Hard Eight BBQ - 688 Freeport Pkwy, Coppell, TX, 75019, US
END:VEVENT

END:VCALENDAR
