BEGIN:VCALENDAR
VERSION:2.0
BEGIN:VEVENT
CLASS:PUBLIC
CATEGORIES:MEETING
DTSTART;TZID=America/Chicago:20260522T190000
DTEND;TZID=America/Chicago:20260522T190000
SUMMARY:Brian Grace Music at Fox Hollow
DESCRIPTION:Age Limit: All Ages
LOCATION:Fox Hollow - 4705 Fox Hollow Road, Graham, TX, 76450, US
END:VEVENT

END:VCALENDAR
