BEGIN:VCALENDAR
VERSION:2.0
BEGIN:VEVENT
CLASS:PUBLIC
CATEGORIES:MEETING
DTSTART;TZID=America/New_York:20260817T190000
DTEND;TZID=America/New_York:20260817T190000
SUMMARY:Pierce Pettis at 49 West Coffeehouse
DESCRIPTION:Price: $20 adv ~ $25 door\nClick here to buy tickets: https://PiercePettiswithDanielleHowle.eventbrite.com\nAge Limit: All Ages\n\nDetails: ITZALL Goode Concerts and SHC Music Tribe Present:\nPierce Pettis w/special guest Danielle Howle\nat 49 West Coffeehouse, Winebar &amp; Gallery\n     ≈≈≈     \nwebsite: 40westcoffeehouse.com\n     ≈≈≈\nTickets Advance $20 - Door $25\nticket url: https://PiercePettiswithDanielleHowle.eventbrite.com  |  \n\nIf you reserve an advanced ticket, do not call the venue to reserve a seat. Your ticket is your reservation. If you do not want to buy a ticket online, you can make a reservation by calling 410-626-9796\n\n     ≈≈≈     \n\nFor more info, email shcmusictribe@gmail.com\n     ≈≈≈\nABOUT PIERCE: \nwebsite: www.piercepettis.com\nvideo: on Alabama Public TV&#39;s &quot;Salt &#39;n Pepper&quot; https://youtu.be/oQyUZT2i-Ck?si=-X6Md7dAtLrQOb92\n     |     \n\n&quot;Pierce is a master musical storyteller, delivering human truth and heartbreaking vulnerability with every tune. He&#39;s also an unnecessarily virtuosic guitarist with the voice of some beautiful angel who also happens to be your old, familiar friend.” \n— Justin Paul (Grammy/Oscar/Tony/Emmy-winning composer, &quot;La La Land”,”Dear Evan Hansen”)\n\n     |     \n\n&quot;...all Pettis has to offer is his earnest best, a tender heart, packaged in one three-and-a-half minute song after another.”—Jason Killingsworth, Paste Magazine\n     |     \n\nCompass Records Group recording artist Pierce Pettis began his career at the legendary Muscle Shoals Sound Studios in Alabama. Since then he’s spent decades performing in 49 of 50 states as well as Canada &amp; Europe. During that time he recorded for Windham Hill in California, was part of the Fast Folk Collective in New York and was a staff songwriter at Polygram and Universal Publishing in Nashville with songs covered by Dion, Art Garfunkel, Garth Brooks, Joan Baez and many others. Pierce’s latest album for Compass, “Father’s Son”, has garnered widespread critical acclaim.\n     ≈≈≈\n\nABOUT DANIELLE:\nWebsite:daniellehowle.com\nVideo: I Held the Satchel opening for Indigo Girls\nhttps://www.youtube.com/watch?v=ar9i9W_cddM\n  |  \n&quot;An extraordinary mind, a southern storyteller with a gorgeous sense of melody that should be pouring out of stereos everywhere&quot; - The New York Times\n  |  \n&quot;Howle captivates audiences with her stunning vocal ability&quot; - Broadwayworld.com\n     |.    \n\nDanielle Howle is a free spirit on a mission: “I want to be your friend, and I want to blow your mind,” she says. On her latest album, Current, the South Carolina songbird accomplishes both with tenderness, charm, and ease. A lifelong artist and natural storyteller, Howle has lived a million lives in one, releasing well over a dozen studio albums in a four-decade career that has traversed genres, styles, and cultures, encompassing everything from country-swamp-blues and jazz to folk, southern rock, indie, and Americana – all while endlessly exploring the depths of the human condition. She’s opened for legends like Bob Dylan and Bonnie Raitt, and was a close friend of the late singer/songwriter Elliott Smith, but Howle doesn’t focus on, nor does she live in the past: Her head and her heart are in the present, as is made abundantly clear throughout her highly anticipated sixteenth studio album, Current (released November 2023 via Kill Rock Stars Nashville).
LOCATION:49 West Coffeehouse - 49 West Street, Annapolis, MD, 21401, US
END:VEVENT

END:VCALENDAR
