BEGIN:VCALENDAR
VERSION:2.0
BEGIN:VEVENT
CLASS:PUBLIC
CATEGORIES:MEETING
DTSTART;TZID=America/Montreal:20260425T200000
DTEND;TZID=America/Montreal:20260425T200000
SUMMARY:Marionnette Pointue at La Ribouldingue
DESCRIPTION:Price: 15$, free for kids under 10 years old\nAge Limit: All Ages\n\nDetails: L&#39;Orchestre Pointue &amp; Running Late will rock your face in this hard rock celebration!We are trying something new with our local bowling alley and arcade! New independent music shows ahead!
LOCATION:La Ribouldingue - 32 Rue de l'Église N, Lorrainville, QC, J0Z 2R0, CA
END:VEVENT

END:VCALENDAR
