BEGIN:VCALENDAR
VERSION:2.0
BEGIN:VEVENT
CLASS:PUBLIC
CATEGORIES:MEETING
DTSTART;TZID=America/Chicago:20260513T180000
DTEND;TZID=America/Chicago:20260513T180000
SUMMARY:Jimmy Lee Hannaford at BLUEGILL Restaurant
DESCRIPTION:Age Limit: All Ages\n\nDetails: til 10
LOCATION:BLUEGILL Restaurant - 3775 Battleship Pkwy, Spanish Fort, AL, 36527, US
END:VEVENT

END:VCALENDAR
