BEGIN:VCALENDAR
VERSION:2.0
BEGIN:VEVENT
CLASS:PUBLIC
CATEGORIES:MEETING
DTSTART;TZID=America/Chicago:20260425T213000
DTEND;TZID=America/Chicago:20260425T213000
SUMMARY:Shredding Flannel at Gluek's Bar & Restaurant
DESCRIPTION:Age Limit: 21+
LOCATION:Gluek's Bar & Restaurant - 16 N 6th St, Minneapolis, MN, 55403, US
END:VEVENT

END:VCALENDAR
