BEGIN:VCALENDAR
VERSION:2.0
BEGIN:VEVENT
CLASS:PUBLIC
CATEGORIES:MEETING
DTSTART;TZID=America/New_York:20260321T210000
DTEND;TZID=America/New_York:20260321T210000
SUMMARY:Spiros Soukis at SILVANA
DESCRIPTION:Price: No Cover \nAge Limit: All Ages\n\nDetails: ROCKIN`BLUES WITH GREEK SOUL!
LOCATION:SILVANA - 300 West 116th Street, New York, NY, 10026, US
END:VEVENT

END:VCALENDAR
