BEGIN:VCALENDAR
VERSION:2.0
BEGIN:VEVENT
CLASS:PUBLIC
CATEGORIES:MEETING
DTSTART;TZID=America/New_York:20260416T173000
DTEND;TZID=America/New_York:20260416T173000
SUMMARY:Eleni Skiba at Private Event
DESCRIPTION:Age Limit: All Ages\n\nDetails: Samantha Russell Duo
LOCATION:Private Event - Loxahatchee, Loxahatchee, FL, 33412, US
END:VEVENT

END:VCALENDAR
