BEGIN:VCALENDAR
VERSION:2.0
BEGIN:VEVENT
CLASS:PUBLIC
CATEGORIES:MEETING
DTSTART;TZID=America/New_York:20260317T180000
DTEND;TZID=America/New_York:20260317T180000
SUMMARY:Eleni Skiba at Kickback Tavern
DESCRIPTION:Age Limit: All Ages\n\nDetails: Samantha Russell Duo
LOCATION:Kickback Tavern - 12771 Forest Hill Boulevard, Wellington, FL, 33414, US
END:VEVENT

END:VCALENDAR
