BEGIN:VCALENDAR
VERSION:2.0
BEGIN:VEVENT
CLASS:PUBLIC
CATEGORIES:MEETING
DTSTART;TZID=America/New_York:20260619T180000
DTEND;TZID=America/New_York:20260619T180000
SUMMARY:Eleni Skiba at Harry and the Natives
DESCRIPTION:Age Limit: All Ages\n\nDetails: MizBehavin&#39;
LOCATION:Harry and the Natives - 11910 SE Federal Hwy, Hobe Sound, FL, 33455, US
END:VEVENT

END:VCALENDAR
