BEGIN:VCALENDAR
VERSION:2.0
BEGIN:VEVENT
CLASS:PUBLIC
CATEGORIES:MEETING
DTSTART;TZID=America/New_York:20260327T190000
DTEND;TZID=America/New_York:20260327T190000
SUMMARY:Eleni Skiba at Tipsy Tiki
DESCRIPTION:Age Limit: All Ages\n\nDetails: MizBehavin&#39;
LOCATION:Tipsy Tiki - 658 North 2nd Street, Fort Pierce, FL, 34950, US
END:VEVENT

END:VCALENDAR
