BEGIN:VCALENDAR
VERSION:2.0
BEGIN:VEVENT
CLASS:PUBLIC
CATEGORIES:MEETING
DTSTART;TZID=America/New_York:20260317T180000
DTEND;TZID=America/New_York:20260317T180000
SUMMARY:Bryan K Buchanan at Karaoke at the Interlachen VFW
DESCRIPTION:Age Limit: All Ages
LOCATION:Karaoke at the Interlachen VFW - 1034 hwy 20, Interlachen, FL, 32148, US
END:VEVENT

END:VCALENDAR
