BEGIN:VCALENDAR
VERSION:2.0
BEGIN:VEVENT
CLASS:PUBLIC
CATEGORIES:MEETING
DTSTART;TZID=America/Chicago:20260822T200000
DTEND;TZID=America/Chicago:20260822T200000
SUMMARY:Jeff Ruby at THE RED BRICK TAVERN
DESCRIPTION:Age Limit: All Ages
LOCATION:THE RED BRICK TAVERN - 119 Simonton Street, Conroe, TX, 77301, US
END:VEVENT

END:VCALENDAR
