BEGIN:VCALENDAR
VERSION:2.0
BEGIN:VEVENT
CLASS:PUBLIC
CATEGORIES:MEETING
DTSTART;TZID=America/Phoenix:20260430T180000
DTEND;TZID=America/Phoenix:20260430T180000
SUMMARY:Ricky Harris at Tempo Urban Bistro
DESCRIPTION:Age Limit: All Ages
LOCATION:Tempo Urban Bistro - 21067 West Main Street, Buckeye, AZ, 85396, US
END:VEVENT

END:VCALENDAR
