BEGIN:VCALENDAR
VERSION:2.0
BEGIN:VEVENT
CLASS:PUBLIC
CATEGORIES:MEETING
DTSTART;TZID=America/New_York:20260409T190000
DTEND;TZID=America/New_York:20260409T190000
SUMMARY:Texas Flood at Iron Horse Music Hall
DESCRIPTION:Click here to buy tickets: https://theparlorroom.my.salesforce-sites.com/ticket/#/events/a0SV500000BFlt7MAD\nAge Limit: All Ages
LOCATION:Iron Horse Music Hall - 16 Wright Ave, Northampton, MA, 01060, US
END:VEVENT

END:VCALENDAR
