BEGIN:VCALENDAR
VERSION:2.0
BEGIN:VEVENT
CLASS:PUBLIC
CATEGORIES:MEETING
DTSTART;TZID=America/Chicago:20260509T190000
DTEND;TZID=America/Chicago:20260509T190000
SUMMARY:Jessica McNear at Sidelines Bar & Grill
DESCRIPTION:Age Limit: All Ages\n\nDetails: Open to the public! Bring your friends for some awesome food, drinks and live music! 
LOCATION:Sidelines Bar & Grill - 204 Ren Mar Center Dr, Pleasant View, TN, 37146, US
END:VEVENT

END:VCALENDAR
