BEGIN:VCALENDAR
VERSION:2.0
BEGIN:VEVENT
CLASS:PUBLIC
CATEGORIES:MEETING
DTSTART;TZID=America/Chicago:20260331T200000
DTEND;TZID=America/Chicago:20260331T200000
SUMMARY:Diamond Dixie at Jelly Roll's Goodnight Nashville
DESCRIPTION:Age Limit: All Ages\n\nDetails: Writers Round.\nJelly Roll&#39;s Goodnight Nashville (Rebel Rouser)
LOCATION:Jelly Roll's Goodnight Nashville - 209 Broadway, Nashville, TN, 37201, US
END:VEVENT

END:VCALENDAR
