BEGIN:VCALENDAR
VERSION:2.0
BEGIN:VEVENT
CLASS:PUBLIC
CATEGORIES:MEETING
DTSTART;TZID=America/Chicago:20260310T220000
DTEND;TZID=America/Chicago:20260310T220000
SUMMARY:Diamond Dixie at Odies
DESCRIPTION:Age Limit: All Ages\n\nDetails: This is a writers round. Our round will be from 10:00-11:00pm.
LOCATION:Odies - 1919 Division St, Nashville, TN, 37203, US
END:VEVENT

END:VCALENDAR
