BEGIN:VCALENDAR
VERSION:2.0
BEGIN:VEVENT
CLASS:PUBLIC
CATEGORIES:MEETING
DTSTART;TZID=America/New_York:20260314T210000
DTEND;TZID=America/New_York:20260314T210000
SUMMARY:PR1 Promotions / DJ Tiburon at Moondoggy's Saloon & Zuzu's Cocktail Lounge
DESCRIPTION:Age Limit: All Ages\n\nDetails: MoonDoggy&#39;s special weekend introduction to the style you have grown to love. Dj Tiburon aka Paco. FRIDAY AND Saturday this weekend only! Catch The Vibe! 9pm Late night Vibes Gulf Gate Style.  Another PR1 PROMOTIONS Experience. 
LOCATION:Moondoggy's Saloon & Zuzu's Cocktail Lounge - 2234-2236 Gulf Gate Drive, Sarasota, FL, 34231, US
END:VEVENT

END:VCALENDAR
