BEGIN:VCALENDAR
VERSION:2.0
BEGIN:VEVENT
CLASS:PUBLIC
CATEGORIES:MEETING
DTSTART;TZID=America/New_York:20260621T180000
DTEND;TZID=America/New_York:20260621T180000
SUMMARY:Lisa Martin at Ludlow Summer Concert Series at Mack Donnelly Gazebo
DESCRIPTION:Age Limit: All Ages\n\nDetails: Ludlow Summer Concert Series featuring the Lisa Martin Band this week! Folk, rock, country and blues. Bring your lawn chairs or blankets and picnic. Food truck available on site. Music til 8pm Free shows sponsored by the Ludlow Cultural Council
LOCATION:Ludlow Summer Concert Series at Mack Donnelly Gazebo - East St, Ludlow, MA, 01056, US
END:VEVENT

END:VCALENDAR
