BEGIN:VCALENDAR
VERSION:2.0
BEGIN:VEVENT
CLASS:PUBLIC
CATEGORIES:MEETING
DTSTART;TZID=Europe/London:20260613T180000
DTEND;TZID=Europe/London:20260613T180000
SUMMARY:Angeldee at Abode Hotel
DESCRIPTION:Price: £25 + BF or £30 OND\nClick here to buy tickets: https://www.skiddle.com/e/42154205\nAge Limit: All Ages\n\nDetails: Album Launch Party - Sebliminal Productions is proud to present &quot;For Aunty Pat&quot; by Angeldee - with special guests: \nAngeldee\nSebliminal\nMonkey Light \nJGHD\nViolet Moon\nVisuals and lights by Lettuce Jam &amp; PsyStudio.uk \nSound engineered by Ollie Seager\n\nJoin us on - Saturday 13th June 2026\nVenue - ABode Hotel Canterbury\n£25+BF or £30 on the door - per ticket \nDoors open 6pm \nMusic starts 7-12am\nFree drink for first 50 people\n\nFamily friendly - no dress code (In fact the more the colour the better)\n\nPhysical album on vinyl and CD + other merchandise available at event.\n\nHope to see you there and bring your psychedelic shoes for dancing.
LOCATION:Abode Hotel - Canterbury, KEN, UK
END:VEVENT

END:VCALENDAR
