BEGIN:VCALENDAR
VERSION:2.0
BEGIN:VEVENT
CLASS:PUBLIC
CATEGORIES:MEETING
DTSTART;TZID=America/New_York:20260412T110000
DTEND;TZID=America/New_York:20260412T110000
SUMMARY:Bryan K Buchanan at Bimini bar
DESCRIPTION:Age Limit: All Ages
LOCATION:Bimini bar - 1022 west hwy 100, Bunnell, FL, 32110, US
END:VEVENT

END:VCALENDAR
