BEGIN:VCALENDAR
VERSION:2.0
BEGIN:VEVENT
CLASS:PUBLIC
CATEGORIES:MEETING
DTSTART;TZID=America/Chicago:20260515T190000
DTEND;TZID=America/Chicago:20260515T190000
SUMMARY:Jason Boland & The Stragglers  at Revolution Music Room (The Rev Room)
DESCRIPTION:Click here to buy tickets: https://www.revroom.com/product/jason-boland-526/\nAge Limit: 18+
LOCATION:Revolution Music Room (The Rev Room) - 300 President Clinton Ave, Little Rock, AR, 72201, US
END:VEVENT

END:VCALENDAR
