BEGIN:VCALENDAR
VERSION:2.0
BEGIN:VEVENT
CLASS:PUBLIC
CATEGORIES:MEETING
DTSTART;TZID=Europe/London:20260515T170000
DTEND;TZID=Europe/London:20260515T170000
SUMMARY:Small Days (Natalie Davis, and Dave Merrick) at Bristol Royal Literary and Scientific Institute
DESCRIPTION:Price: Free Entry\nClick here to buy tickets: https://reception@brlsi.org\nAge Limit: All Ages\n\nDetails: Inner Voice, Native American Guitar and Flute.  Join us at 5-00pm for an atmospheric set of Native American flute and guitar.
LOCATION:Bristol Royal Literary and Scientific Institute - 16-18 Queen Square, Bath, BA1 2HN, Bath, BA1 2HN, UK
END:VEVENT

END:VCALENDAR
