BEGIN:VCALENDAR
VERSION:2.0
BEGIN:VEVENT
CLASS:PUBLIC
CATEGORIES:MEETING
DTSTART;TZID=America/Chicago:20260904T210000
DTEND;TZID=America/Chicago:20260904T210000
SUMMARY:Texas Flood at The Guitar Sanctuary
DESCRIPTION:Click here to buy tickets: https://www.showclix.com/event/texasflood-mtb-sept2026?fbclid=IwY2xjawQUa1JleHRuA2FlbQIxMABicmlkETFVRXBMWU92ZHJTam1tS2NKc3J0YwZhcHBfaWQQMjIyMDM5MTc4ODIwMDg5MgABHmv3LsMysbCPM4_0bsagohDQ8j4-1whf86mZaT0OKDIkA7TrqJljawUuKCxh_aem_a8LNmn_RNoiyQHC1OjIahQ\nAge Limit: All Ages
LOCATION:The Guitar Sanctuary - 6633 Virginia Parkway, Mc Kinney, TX, 75071, US
END:VEVENT

END:VCALENDAR
