BEGIN:VCALENDAR
VERSION:2.0
BEGIN:VEVENT
CLASS:PUBLIC
CATEGORIES:MEETING
DTSTART;TZID=America/Chicago:20260613T190000
DTEND;TZID=America/Chicago:20260613T190000
SUMMARY:Texas Flood at Texan Theater
DESCRIPTION:Click here to buy tickets: https://outhousetickets.com/events/texan-theater-texas-flood\nAge Limit: All Ages
LOCATION:Texan Theater - 102 East Houston Street, Cleveland, TX, 77327, US
END:VEVENT

END:VCALENDAR
