BEGIN:VCALENDAR
VERSION:2.0
BEGIN:VEVENT
CLASS:PUBLIC
CATEGORIES:MEETING
DTSTART;TZID=America/New_York:20260704T140000
DTEND;TZID=America/New_York:20260704T140000
SUMMARY:Bryan K Buchanan at Private event
DESCRIPTION:Age Limit: All Ages
LOCATION:Private event - 1776 none of your business ave, Melrose, FL, 32666, US
END:VEVENT

END:VCALENDAR
